BEGIN:VCALENDAR
VERSION:2.0
PRODID:icalendar-ruby
CALSCALE:GREGORIAN
X-WR-TIMEZONE:Europe/Helsinki
BEGIN:VTIMEZONE
TZID:Europe/Helsinki
BEGIN:DAYLIGHT
DTSTART:20260329T040000
TZOFFSETFROM:+0200
TZOFFSETTO:+0300
RRULE:FREQ=YEARLY;BYDAY=-1SU;BYMONTH=3
TZNAME:EEST
END:DAYLIGHT
BEGIN:STANDARD
DTSTART:20261025T030000
TZOFFSETFROM:+0300
TZOFFSETTO:+0200
RRULE:FREQ=YEARLY;BYDAY=-1SU;BYMONTH=10
TZNAME:EET
END:STANDARD
END:VTIMEZONE
BEGIN:VEVENT
DTSTAMP:20260421T193008
UID:tpssalibandy.myclub.fi-8920361
DTSTART;TZID=Europe/Helsinki:20250819T170000
DTEND;TZID=Europe/Helsinki:20250819T170000
DESCRIPTION:Aluejoukkue 2016-2017-syntyneille tytöille\nHarjoitukset 2 ker
 taa viikossa\, joista toinen on tiistaisin klo 17.00-18.00 Suikkilan koulu
 lla ja toinen lauantaisin klo 11.00-12.00 Kupittaan palloiluhallilla yhdes
 sä muiden tyttöjoukkueiden kanssa.\nMukaan sisäliikuntavarusteet\, juom
 apullo\, salibandymaila ja suojalasit.\nToiminta-aika:\nViikosta 34\, viik
 koon 18 (elokuusta huhtikuuhun)\n* Loma-ajat ja pyhät voi vaikuttaa toimi
 nta-aikoihin\nHinta:\n30€/kuukaudessa\n*Huom! Ensimmäisen kuukauden mak
 su on 80€\, mikä sisältää seuran jäsenmaksun. Maksut veloitetaan va
 in toimintakuukausina.\n\nhttps://tpssalibandy.myclub.fi/flow/events/89203
 61
LOCATION:Suikkilan koulu\, Talinkorventie 16\, 20320 Turku
SEQUENCE:0
SUMMARY:T10: Ilmoittautuminen ryhmään T10
URL;VALUE=URI:https://tpssalibandy.myclub.fi/flow/events/8920361
END:VEVENT
END:VCALENDAR
